BEGIN:VCALENDAR
VERSION:2.0
PRODID:Aniversário do Clube Desportivo de Espite
X-WR-CALNAME:Aniversário do Clube Desportivo de Espite
X-WR-TIMEZONE:Europe/Lisbon
X-PUBLISHED-TTL:P1W
BEGIN:VTIMEZONE
TZID:Europe/Lisbon
X-LIC-LOCATION:Europe/Lisbon
END:VTIMEZONE
BEGIN:VEVENT
UID:69e9dc4cc622a
DTSTART;VALUE=DATE:20240922
SEQUENCE:0
TRANSP:OPAQUE
DTEND;VALUE=DATE:20240923
SUMMARY:Aniversário do Clube Desportivo de Espite
CLASS:PUBLIC
DESCRIPTION:Aniversário do Clube Desportivo de Espite
X-MICROSOFT-CDO-ALLDAYEVENT:TRUE
DTSTAMP:20260423T084604Z
END:VEVENT
END:VCALENDAR