BEGIN:VCALENDAR
VERSION:2.0
PRODID:Festa Grande de Espite em Honra do Sagrado Coração de Jesus e Noss
 a Senhora do Rosário
X-WR-CALNAME:Festa Grande de Espite em Honra do Sagrado Coração de Jesus 
 e Nossa Senhora do Rosário
X-WR-TIMEZONE:Europe/Lisbon
X-PUBLISHED-TTL:P1W
BEGIN:VTIMEZONE
TZID:Europe/Lisbon
X-LIC-LOCATION:Europe/Lisbon
END:VTIMEZONE
BEGIN:VEVENT
UID:69e631b798732
DTSTART;VALUE=DATE:20230818
SEQUENCE:0
TRANSP:OPAQUE
DTEND;VALUE=DATE:20230819
SUMMARY:Festa Grande de Espite em Honra do Sagrado Coração de Jesus e Nos
 sa Senhora do Rosário
CLASS:PUBLIC
DESCRIPTION:Festa Grande em Honra do Sagrado Coração de Jesus e Nossa Sen
 hora do Rosário\, em Espite.
X-MICROSOFT-CDO-ALLDAYEVENT:TRUE
DTSTAMP:20260420T140127Z
END:VEVENT
END:VCALENDAR